BEGIN:VCALENDAR
VERSION:2.0
PRODID:-//wp-events-plugin.com//5.99912//EN
TZID:Europe/Berlin
X-WR-TIMEZONE:Europe/Berlin
BEGIN:VEVENT
UID:0-912@koenigsbronn.albverein.eu
DTSTART;TZID=Europe/Berlin:20260505T083000
DTEND;TZID=Europe/Berlin:20260505T203000
DTSTAMP:20260413T195019Z
URL:https://koenigsbronn.albverein.eu/events/bus-ausflug-nach-rottenburg-n
 ekar-gt/
SUMMARY:Bus-Ausflug nach Rottenburg/Nekar ( GT )
DESCRIPTION:Am Dienstag\, den 05.05.2026\, veranstaltet die Ortsgruppe eine
 n Tagesausflug mit dem Bus nach Rottenburg am Neckar. Mitglied Peter Schra
 mm ist dort aufgewachsen und führt durch die malerische Bischofsstadt. Zu
 dem wird die Wallfahrtskirche im Weggental besichtigt.\n\nDie Kosten der F
 ahrt belaufen sich ohne Einkehr auf 40\,-- €.\n\nWer Interesse hat möch
 te sich bitte bei Anneliese Widmann unter der Tel.-Nr.: 07328-6121 melden.
  Dann erhält man einen Anmeldezettel mit weiteren Details und einer Konto
 nummer zur Einzahlung. Erst diese gilt als Anmeldung.\n\nFür den Ausflug 
 sind noch wenige Plätze frei. Wer Interesse hat möchte sich bitte bei An
 neliese Widmann unter der Tel.-Nr.: 07328-6121 umgehend melden. Auch Gäst
 e sind herzlich willkommen.
LOCATION:REWE Parkplatz\, Aalenerstr. 23\, Königsbronn\, 89551\, Deutschla
 nd
GEO:48.742163;10.112123
X-APPLE-STRUCTURED-LOCATION;VALUE=URI;X-ADDRESS=Aalenerstr. 23\, Königsbro
 nn\, 89551\, Deutschland;X-APPLE-RADIUS=100;X-TITLE=REWE Parkplatz:geo:48.
 742163,10.112123
END:VEVENT
BEGIN:VTIMEZONE
TZID:Europe/Berlin
X-LIC-LOCATION:Europe/Berlin
BEGIN:DAYLIGHT
DTSTART:20260329T030000
TZOFFSETFROM:+0100
TZOFFSETTO:+0200
TZNAME:CEST
END:DAYLIGHT
END:VTIMEZONE
END:VCALENDAR